BEGIN:VCALENDAR
PRODID:www.eostroleka.pl
VERSION:2.0
BEGIN:VEVENT
DTSTART:20260426T000000Z
DTEND:20260426T235900Z
DESCRIPTION: 
LOCATION:Ostrołęka
SUMMARY:Turniej Piłki Nożnej o Puchar Przechodni Wójta Gminy Olszewo-Borki
END:VEVENT
END:VCALENDAR
