BEGIN:VCALENDAR
PRODID:www.eostroleka.pl
VERSION:2.0
BEGIN:VEVENT
DTSTART:20260422T180000Z
DTEND:20260422T235959Z
DESCRIPTION: 
LOCATION:Ostrołęka
SUMMARY:Filmowe środy - "La Grazia"
END:VEVENT
END:VCALENDAR
