BEGIN:VCALENDAR
PRODID:www.eostroleka.pl
VERSION:2.0
BEGIN:VEVENT
DTSTART:20260425T100000Z
DTEND:20260425T235959Z
DESCRIPTION: Odmulanie Omulwi\n 10.00-11.00 - rejestracja uczestników spływu\n 11.00-11.30 - przygotowanie do spływu\n 11.30 - zbiórka uczestników akcji „\,Operacja\n \n Czysta Rzeka" na parkingu przy McDonald` s\n 11.30-11.45 - odprawa przed spływem\n 11.45-11.55 - przejazd autobusem MZK na miejsce startu\n 12.00 - start spływu w Krukach\n 13.30 - zakończenie spływu i akcji \,Operacja Czysta Rzeka"\n 13.30 - zanurzenie "Ostrołęckich Morsów"\n 14.00 - podsumowanie spływu\, losowanie nagród\, rozstrzygnięcie konkursów\n 15.00 - biesiada integracyjna\n Od godziny 12.00 ognisko "Muzyka - Rekreacja"
LOCATION:Ostrołęka
SUMMARY:18. Odmulanie Omulwi i akcja Czysta Rzeka
END:VEVENT
END:VCALENDAR
