BEGIN:VCALENDAR
PRODID:www.eostroleka.pl
VERSION:2.0
BEGIN:VEVENT
DTSTART:20260423T180000Z
DTEND:20260423T235959Z
DESCRIPTION: Zapraszamy na farsę Marii Pawlikowskiej-Jasnorzewskiej dla osób powyżej 15 roku życia\, która opowiada o perypetiach dwójki młodych ludzi.\n Bohaterowie dla majątku decydują się na "białe małżeństwo". Aby utrzymać pozory\, muszą niespodziewanie znaleźć zastępstwo na noc poślubną\, co prowadzi do nieprzewidywalnych wydarzeń. W ich tle uczucia pojawiają się tam\, gdzie nikt się ich nie spodziewał.
LOCATION:Ostrołęka
SUMMARY:"Szofer Archibald". Spektakl w ramach V Ostrołęckiej Wiosny Teatralnej.
END:VEVENT
END:VCALENDAR
